BEGIN:VCALENDAR
VERSION:2.0
PRODID:-//Reservistenkameradschaft Bonn-Mitte - ECPv6.15.20//NONSGML v1.0//EN
CALSCALE:GREGORIAN
METHOD:PUBLISH
X-WR-CALNAME:Reservistenkameradschaft Bonn-Mitte
X-ORIGINAL-URL:https://www.rk-bonn.de
X-WR-CALDESC:Veranstaltungen für Reservistenkameradschaft Bonn-Mitte
REFRESH-INTERVAL;VALUE=DURATION:PT1H
X-Robots-Tag:noindex
X-PUBLISHED-TTL:PT1H
BEGIN:VTIMEZONE
TZID:UTC
BEGIN:STANDARD
TZOFFSETFROM:+0000
TZOFFSETTO:+0000
TZNAME:UTC
DTSTART:20250101T000000
END:STANDARD
END:VTIMEZONE
BEGIN:VEVENT
DTSTART;TZID=UTC:20261201T193000
DTEND;TZID=UTC:20261201T193000
DTSTAMP:20260421T100335
CREATED:20251216T080638Z
LAST-MODIFIED:20260116T101440Z
UID:555-1796153400-1796153400@www.rk-bonn.de
SUMMARY:RK-Abend
DESCRIPTION:Die Termine der RK-Abende sind geplant als „Jour fixe“ – normalerweise am zweiten Dienstag im Monat um 19.30 Uhr – mit Gesprächen zu einem militärischen\noder aktuellen sicherheitspolitischen Thema.
URL:https://www.rk-bonn.de/event/rk-abend-12/
LOCATION:Restaurant „Que Sera“\, Heerstraße 98\, Bonn\, NRW\, 53111\, Germany
CATEGORIES:RK-Abend
END:VEVENT
BEGIN:VEVENT
DTSTART;TZID=UTC:20261202T000000
DTEND;TZID=UTC:20261202T000000
DTSTAMP:20260421T100335
CREATED:20251216T070657Z
LAST-MODIFIED:20251216T093042Z
UID:525-1796169600-1796169600@www.rk-bonn.de
SUMMARY:AGSHP / SiPo begleitend
DESCRIPTION:
URL:https://www.rk-bonn.de/event/agshp-sipo-begleitend/
CATEGORIES:grün/DVag/VVag
END:VEVENT
BEGIN:VEVENT
DTSTART;TZID=UTC:20261205T000000
DTEND;TZID=UTC:20261205T000000
DTSTAMP:20260421T100335
CREATED:20251216T070657Z
LAST-MODIFIED:20251216T093042Z
UID:526-1796428800-1796428800@www.rk-bonn.de
SUMMARY:AGSHP-Kreispokalschießen
DESCRIPTION:
URL:https://www.rk-bonn.de/event/agshp-kreispokalschiessen-2/
LOCATION:Wesel
CATEGORIES:grün/DVag/VVag
END:VEVENT
BEGIN:VEVENT
DTSTART;TZID=UTC:20261205T000000
DTEND;TZID=UTC:20261205T000000
DTSTAMP:20260421T100335
CREATED:20251216T070658Z
LAST-MODIFIED:20251216T093043Z
UID:527-1796428800-1796428800@www.rk-bonn.de
SUMMARY:Schulschießen
DESCRIPTION:
URL:https://www.rk-bonn.de/event/schulschiessen-4/
LOCATION:tbd
CATEGORIES:grün/DVag/VVag
END:VEVENT
BEGIN:VEVENT
DTSTART;TZID=UTC:20261205T000000
DTEND;TZID=UTC:20261205T000000
DTSTAMP:20260421T100335
CREATED:20251216T070658Z
LAST-MODIFIED:20251216T093043Z
UID:528-1796428800-1796428800@www.rk-bonn.de
SUMMARY:AGSHP
DESCRIPTION:
URL:https://www.rk-bonn.de/event/agshp-7/
LOCATION:Erndtebrück
CATEGORIES:grün/DVag/VVag
END:VEVENT
BEGIN:VEVENT
DTSTART;TZID=UTC:20261205T000000
DTEND;TZID=UTC:20261205T000000
DTSTAMP:20260421T100335
CREATED:20251216T070658Z
LAST-MODIFIED:20251216T093043Z
UID:529-1796428800-1796428800@www.rk-bonn.de
SUMMARY:AGSHP Schießen mit Gästen
DESCRIPTION:
URL:https://www.rk-bonn.de/event/agshp-schiessen-mit-gaesten/
LOCATION:Köln
CATEGORIES:grün/DVag/VVag
END:VEVENT
BEGIN:VEVENT
DTSTART;TZID=UTC:20261205T000000
DTEND;TZID=UTC:20261205T000000
DTSTAMP:20260421T100335
CREATED:20251216T070712Z
LAST-MODIFIED:20251216T093053Z
UID:530-1796428800-1796428800@www.rk-bonn.de
SUMMARY:Schießen mit Gästen
DESCRIPTION:
URL:https://www.rk-bonn.de/event/schiessen-mit-gaesten-2/
LOCATION:Augustdorf
CATEGORIES:grün/DVag/VVag
END:VEVENT
BEGIN:VEVENT
DTSTART;TZID=UTC:20261206T170000
DTEND;TZID=UTC:20261206T190000
DTSTAMP:20260421T100335
CREATED:20251216T080619Z
LAST-MODIFIED:20260120T065113Z
UID:543-1796576400-1796583600@www.rk-bonn.de
SUMMARY:Adventskonzert
DESCRIPTION:
URL:https://www.rk-bonn.de/event/adventskonzert/
LOCATION:Matthäikirche\, Bonn-Duisdorf
CATEGORIES:Konzert
ORGANIZER;CN="Musikverein Bonn-Duisdorf":MAILTO:Verein@musikverein-bonn-duisdorf.de
END:VEVENT
BEGIN:VEVENT
DTSTART;TZID=UTC:20261212T000000
DTEND;TZID=UTC:20261212T000000
DTSTAMP:20260421T100335
CREATED:20251216T070712Z
LAST-MODIFIED:20251216T093053Z
UID:531-1797033600-1797033600@www.rk-bonn.de
SUMMARY:Waffenausbildung
DESCRIPTION:
URL:https://www.rk-bonn.de/event/waffenausbildung/
LOCATION:Wesel
CATEGORIES:grün/DVag/VVag
END:VEVENT
BEGIN:VEVENT
DTSTART;TZID=UTC:20261212T000000
DTEND;TZID=UTC:20261212T000000
DTSTAMP:20260421T100335
CREATED:20251216T070713Z
LAST-MODIFIED:20251216T093053Z
UID:532-1797033600-1797033600@www.rk-bonn.de
SUMMARY:AGSHP-Bedienerausbildung
DESCRIPTION:
URL:https://www.rk-bonn.de/event/agshp-bedienerausbildung-2/
LOCATION:Wesel
CATEGORIES:grün/DVag/VVag
END:VEVENT
BEGIN:VEVENT
DTSTART;TZID=UTC:20261212T000000
DTEND;TZID=UTC:20261212T000000
DTSTAMP:20260421T100335
CREATED:20251216T070713Z
LAST-MODIFIED:20251216T093053Z
UID:533-1797033600-1797033600@www.rk-bonn.de
SUMMARY:AGSHP-Schießausbildung
DESCRIPTION:
URL:https://www.rk-bonn.de/event/agshp-schiessausbildung-4/
LOCATION:Köln
CATEGORIES:grün/DVag/VVag
END:VEVENT
BEGIN:VEVENT
DTSTART;TZID=UTC:20261215T000000
DTEND;TZID=UTC:20261215T000000
DTSTAMP:20260421T100335
CREATED:20251216T070713Z
LAST-MODIFIED:20251216T093053Z
UID:534-1797292800-1797292800@www.rk-bonn.de
SUMMARY:RMZ Ev.MilPfarAmt Feldgottesdienst
DESCRIPTION:
URL:https://www.rk-bonn.de/event/rmz-ev-milpfaramt-feldgottesdienst/
LOCATION:Bonn
CATEGORIES:grün/DVag/VVag
END:VEVENT
END:VCALENDAR