BEGIN:VCALENDAR
VERSION:2.0
PRODID:-//Reservistenkameradschaft Bonn-Mitte - ECPv6.15.20//NONSGML v1.0//EN
CALSCALE:GREGORIAN
METHOD:PUBLISH
X-WR-CALNAME:Reservistenkameradschaft Bonn-Mitte
X-ORIGINAL-URL:https://www.rk-bonn.de
X-WR-CALDESC:Veranstaltungen für Reservistenkameradschaft Bonn-Mitte
REFRESH-INTERVAL;VALUE=DURATION:PT1H
X-Robots-Tag:noindex
X-PUBLISHED-TTL:PT1H
BEGIN:VTIMEZONE
TZID:UTC
BEGIN:STANDARD
TZOFFSETFROM:+0000
TZOFFSETTO:+0000
TZNAME:UTC
DTSTART:20250101T000000
END:STANDARD
END:VTIMEZONE
BEGIN:VEVENT
DTSTART;TZID=UTC:20260420T000000
DTEND;TZID=UTC:20260424T000000
DTSTAMP:20260420T095404
CREATED:20251216T070142Z
LAST-MODIFIED:20251216T092531Z
UID:420-1776643200-1776988800@www.rk-bonn.de
SUMMARY:Ausbildung FE B-Fort mit Prüfung II
DESCRIPTION:
URL:https://www.rk-bonn.de/event/ausbildung-fe-b-fort-mit-pruefung-ii/
CATEGORIES:grün/DVag/VVag
END:VEVENT
END:VCALENDAR